BEGIN:VCALENDAR
VERSION:2.0
PRODID:-//Alexandra Park Bowling Club - ECPv6.15.18//NONSGML v1.0//EN
CALSCALE:GREGORIAN
METHOD:PUBLISH
X-WR-CALNAME:Alexandra Park Bowling Club
X-ORIGINAL-URL:https://apbc.uk
X-WR-CALDESC:Events for Alexandra Park Bowling Club
REFRESH-INTERVAL;VALUE=DURATION:PT1H
X-Robots-Tag:noindex
X-PUBLISHED-TTL:PT1H
BEGIN:VTIMEZONE
TZID:Europe/London
BEGIN:DAYLIGHT
TZOFFSETFROM:+0000
TZOFFSETTO:+0100
TZNAME:BST
DTSTART:20250330T010000
END:DAYLIGHT
BEGIN:STANDARD
TZOFFSETFROM:+0100
TZOFFSETTO:+0000
TZNAME:GMT
DTSTART:20251026T010000
END:STANDARD
BEGIN:DAYLIGHT
TZOFFSETFROM:+0000
TZOFFSETTO:+0100
TZNAME:BST
DTSTART:20260329T010000
END:DAYLIGHT
BEGIN:STANDARD
TZOFFSETFROM:+0100
TZOFFSETTO:+0000
TZNAME:GMT
DTSTART:20261025T010000
END:STANDARD
BEGIN:DAYLIGHT
TZOFFSETFROM:+0000
TZOFFSETTO:+0100
TZNAME:BST
DTSTART:20270328T010000
END:DAYLIGHT
BEGIN:STANDARD
TZOFFSETFROM:+0100
TZOFFSETTO:+0000
TZNAME:GMT
DTSTART:20271031T010000
END:STANDARD
END:VTIMEZONE
BEGIN:VEVENT
DTSTART;TZID=Europe/London:20260318T130000
DTEND;TZID=Europe/London:20260318T160000
DTSTAMP:20260422T105948
CREATED:20260227T195508Z
LAST-MODIFIED:20260227T200655Z
UID:1048-1773838800-1773849600@apbc.uk
SUMMARY:First Social Bowling day of 2026
DESCRIPTION:We understand that the greens will be available from Monday 16th March so this is the first day of our popular Wednesday Social Bowling Events. \nPlease remember as was announced by Fred at the AGM no £10 or higher notes please and the cut-off time is 1pm – do not arrive later unless you merely want to watch.
URL:https://apbc.uk/event/first-social-bowling-day-of-2026/
LOCATION:Alexandra Park\, Alexandra Road\, Stockton Heath\, Warrington\, WA4 2UT\, United Kingdom
CATEGORIES:Seniors
END:VEVENT
END:VCALENDAR