BEGIN:VCALENDAR
VERSION:2.0
PRODID:-//Alexandra Park Bowling Club - ECPv6.15.18//NONSGML v1.0//EN
CALSCALE:GREGORIAN
METHOD:PUBLISH
X-ORIGINAL-URL:https://apbc.uk
X-WR-CALDESC:Events for Alexandra Park Bowling Club
REFRESH-INTERVAL;VALUE=DURATION:PT1H
X-Robots-Tag:noindex
X-PUBLISHED-TTL:PT1H
BEGIN:VTIMEZONE
TZID:Europe/London
BEGIN:DAYLIGHT
TZOFFSETFROM:+0000
TZOFFSETTO:+0100
TZNAME:BST
DTSTART:20250330T010000
END:DAYLIGHT
BEGIN:STANDARD
TZOFFSETFROM:+0100
TZOFFSETTO:+0000
TZNAME:GMT
DTSTART:20251026T010000
END:STANDARD
BEGIN:DAYLIGHT
TZOFFSETFROM:+0000
TZOFFSETTO:+0100
TZNAME:BST
DTSTART:20260329T010000
END:DAYLIGHT
BEGIN:STANDARD
TZOFFSETFROM:+0100
TZOFFSETTO:+0000
TZNAME:GMT
DTSTART:20261025T010000
END:STANDARD
BEGIN:DAYLIGHT
TZOFFSETFROM:+0000
TZOFFSETTO:+0100
TZNAME:BST
DTSTART:20270328T010000
END:DAYLIGHT
BEGIN:STANDARD
TZOFFSETFROM:+0100
TZOFFSETTO:+0000
TZNAME:GMT
DTSTART:20271031T010000
END:STANDARD
END:VTIMEZONE
BEGIN:VEVENT
DTSTART;TZID=Europe/London:20260130T130000
DTEND;TZID=Europe/London:20260130T160000
DTSTAMP:20260422T141908
CREATED:20251130T122900Z
LAST-MODIFIED:20260107T171233Z
UID:1019-1769778000-1769788800@apbc.uk
SUMMARY:January 2026 AGM
DESCRIPTION:Our Annual General Meeting is set for the end of January – on the 30th January at 13:00. \nAll members welcome (and encouraged to attend) \nDave
URL:https://apbc.uk/event/january-2026-agm/
CATEGORIES:Seniors
END:VEVENT
END:VCALENDAR