BEGIN:VCALENDAR
VERSION:2.0
PRODID:-//Alexandra Park Bowling Club - ECPv6.15.18//NONSGML v1.0//EN
CALSCALE:GREGORIAN
METHOD:PUBLISH
X-ORIGINAL-URL:https://apbc.uk
X-WR-CALDESC:Events for Alexandra Park Bowling Club
REFRESH-INTERVAL;VALUE=DURATION:PT1H
X-Robots-Tag:noindex
X-PUBLISHED-TTL:PT1H
BEGIN:VTIMEZONE
TZID:Europe/London
BEGIN:DAYLIGHT
TZOFFSETFROM:+0000
TZOFFSETTO:+0100
TZNAME:BST
DTSTART:20230326T010000
END:DAYLIGHT
BEGIN:STANDARD
TZOFFSETFROM:+0100
TZOFFSETTO:+0000
TZNAME:GMT
DTSTART:20231029T010000
END:STANDARD
BEGIN:DAYLIGHT
TZOFFSETFROM:+0000
TZOFFSETTO:+0100
TZNAME:BST
DTSTART:20240331T010000
END:DAYLIGHT
BEGIN:STANDARD
TZOFFSETFROM:+0100
TZOFFSETTO:+0000
TZNAME:GMT
DTSTART:20241027T010000
END:STANDARD
BEGIN:DAYLIGHT
TZOFFSETFROM:+0000
TZOFFSETTO:+0100
TZNAME:BST
DTSTART:20250330T010000
END:DAYLIGHT
BEGIN:STANDARD
TZOFFSETFROM:+0100
TZOFFSETTO:+0000
TZNAME:GMT
DTSTART:20251026T010000
END:STANDARD
END:VTIMEZONE
BEGIN:VEVENT
DTSTART;TZID=Europe/London:20241202T130000
DTEND;TZID=Europe/London:20241202T160000
DTSTAMP:20260423T104337
CREATED:20241212T142729Z
LAST-MODIFIED:20241213T124533Z
UID:893-1733144400-1733155200@apbc.uk
SUMMARY:DOROTHY'S CENTENARY CELEBRATION - GRAPPENHALL EX SERVICEMENS CLUJB - 2ND DECEMBER 2024
DESCRIPTION:
URL:https://apbc.uk/event/dorothyhs-centenary-celebration-2nd-december-2024/
LOCATION:Grappenhall Ex Servicemens Club\, Chester Rd\, Grappenhall\, Warrington WA4 2QG\, United Kingdom
CATEGORIES:Ladies
END:VEVENT
BEGIN:VEVENT
DTSTART;TZID=Europe/London:20241206T120000
DTEND;TZID=Europe/London:20241206T170000
DTSTAMP:20260423T104337
CREATED:20241111T160849Z
LAST-MODIFIED:20241212T133943Z
UID:877-1733486400-1733504400@apbc.uk
SUMMARY:LADIES CHRISTMAS MEAL 6TH DECEMBER 2024 AT THE BARN OWL
DESCRIPTION:
URL:https://apbc.uk/event/ladies-christmas-meal-6th-december-2024-at-the-barn-owl/
LOCATION:Barn Owl\, Warrington Lane\, Lymm\, WA13 0SW\, United Kingdom
CATEGORIES:Ladies
END:VEVENT
BEGIN:VEVENT
DTSTART;VALUE=DATE:20241220
DTEND;VALUE=DATE:20241221
DTSTAMP:20260423T104337
CREATED:20240908T120929Z
LAST-MODIFIED:20240908T121305Z
UID:851-1734652800-1734739199@apbc.uk
SUMMARY:Christmas Meal 2024
DESCRIPTION:The annual Christmas lunch is on Friday 20th December at Warrington Golf Club.\nCost is £30 / head. Details from John H = More information to follow.
URL:https://apbc.uk/event/christmas-meal-2024/
LOCATION:Warrington Golf Club\, London Road\, Appleton\, Warrington\, WA4 5HR\, United Kingdom
CATEGORIES:Seniors
END:VEVENT
END:VCALENDAR