BEGIN:VCALENDAR
VERSION:2.0
PRODID:-//Alexandra Park Bowling Club - ECPv6.15.18//NONSGML v1.0//EN
CALSCALE:GREGORIAN
METHOD:PUBLISH
X-ORIGINAL-URL:https://apbc.uk
X-WR-CALDESC:Events for Alexandra Park Bowling Club
REFRESH-INTERVAL;VALUE=DURATION:PT1H
X-Robots-Tag:noindex
X-PUBLISHED-TTL:PT1H
BEGIN:VTIMEZONE
TZID:Europe/London
BEGIN:DAYLIGHT
TZOFFSETFROM:+0000
TZOFFSETTO:+0100
TZNAME:BST
DTSTART:20230326T010000
END:DAYLIGHT
BEGIN:STANDARD
TZOFFSETFROM:+0100
TZOFFSETTO:+0000
TZNAME:GMT
DTSTART:20231029T010000
END:STANDARD
BEGIN:DAYLIGHT
TZOFFSETFROM:+0000
TZOFFSETTO:+0100
TZNAME:BST
DTSTART:20240331T010000
END:DAYLIGHT
BEGIN:STANDARD
TZOFFSETFROM:+0100
TZOFFSETTO:+0000
TZNAME:GMT
DTSTART:20241027T010000
END:STANDARD
BEGIN:DAYLIGHT
TZOFFSETFROM:+0000
TZOFFSETTO:+0100
TZNAME:BST
DTSTART:20250330T010000
END:DAYLIGHT
BEGIN:STANDARD
TZOFFSETFROM:+0100
TZOFFSETTO:+0000
TZNAME:GMT
DTSTART:20251026T010000
END:STANDARD
END:VTIMEZONE
BEGIN:VEVENT
DTSTART;TZID=Europe/London:20240308T080000
DTEND;TZID=Europe/London:20240311T170000
DTSTAMP:20260424T023303
CREATED:20240209T132000Z
LAST-MODIFIED:20240209T132426Z
UID:795-1709884800-1710176400@apbc.uk
SUMMARY:LADIES AWAY DAY 8TH MARCH 2024
DESCRIPTION:The Ladies Bowling Club will enjoy their first weekend away of 2024 on the 8th March 2024 at the Queens Hotel\, Blackpool \n 
URL:https://apbc.uk/event/ladies-away-day-2024/
LOCATION:Queen’s Hotel Blackpool\, 467-469 Promenade\, Backpool\, FY4 1AY
CATEGORIES:Ladies
END:VEVENT
END:VCALENDAR