BEGIN:VCALENDAR
VERSION:2.0
PRODID:-//Alexandra Park Bowling Club - ECPv6.15.18//NONSGML v1.0//EN
CALSCALE:GREGORIAN
METHOD:PUBLISH
X-ORIGINAL-URL:https://apbc.uk
X-WR-CALDESC:Events for Alexandra Park Bowling Club
REFRESH-INTERVAL;VALUE=DURATION:PT1H
X-Robots-Tag:noindex
X-PUBLISHED-TTL:PT1H
BEGIN:VTIMEZONE
TZID:Europe/London
BEGIN:DAYLIGHT
TZOFFSETFROM:+0000
TZOFFSETTO:+0100
TZNAME:BST
DTSTART:20250330T010000
END:DAYLIGHT
BEGIN:STANDARD
TZOFFSETFROM:+0100
TZOFFSETTO:+0000
TZNAME:GMT
DTSTART:20251026T010000
END:STANDARD
BEGIN:DAYLIGHT
TZOFFSETFROM:+0000
TZOFFSETTO:+0100
TZNAME:BST
DTSTART:20260329T010000
END:DAYLIGHT
BEGIN:STANDARD
TZOFFSETFROM:+0100
TZOFFSETTO:+0000
TZNAME:GMT
DTSTART:20261025T010000
END:STANDARD
BEGIN:DAYLIGHT
TZOFFSETFROM:+0000
TZOFFSETTO:+0100
TZNAME:BST
DTSTART:20270328T010000
END:DAYLIGHT
BEGIN:STANDARD
TZOFFSETFROM:+0100
TZOFFSETTO:+0000
TZNAME:GMT
DTSTART:20271031T010000
END:STANDARD
END:VTIMEZONE
BEGIN:VEVENT
DTSTART;VALUE=DATE:20260213
DTEND;VALUE=DATE:20260214
DTSTAMP:20260422T154754
CREATED:20251130T122445Z
LAST-MODIFIED:20251130T122938Z
UID:1017-1770940800-1771027199@apbc.uk
SUMMARY:Prestatyn indoor bowling away day
DESCRIPTION:The second of our “winter 2025-26′ away days to Prestatyn is on 13th Feb 2026.\nWe have a full list for the day – contact Stewart if you want to go on the standby list
URL:https://apbc.uk/event/prestatyn-indoor-bowling-away-day/
CATEGORIES:Seniors
END:VEVENT
END:VCALENDAR