BEGIN:VCALENDAR
VERSION:2.0
PRODID:-//Alexandra Park Bowling Club - ECPv6.15.18//NONSGML v1.0//EN
CALSCALE:GREGORIAN
METHOD:PUBLISH
X-WR-CALNAME:Alexandra Park Bowling Club
X-ORIGINAL-URL:https://apbc.uk
X-WR-CALDESC:Events for Alexandra Park Bowling Club
REFRESH-INTERVAL;VALUE=DURATION:PT1H
X-Robots-Tag:noindex
X-PUBLISHED-TTL:PT1H
BEGIN:VTIMEZONE
TZID:Europe/London
BEGIN:DAYLIGHT
TZOFFSETFROM:+0000
TZOFFSETTO:+0100
TZNAME:BST
DTSTART:20230326T010000
END:DAYLIGHT
BEGIN:STANDARD
TZOFFSETFROM:+0100
TZOFFSETTO:+0000
TZNAME:GMT
DTSTART:20231029T010000
END:STANDARD
BEGIN:DAYLIGHT
TZOFFSETFROM:+0000
TZOFFSETTO:+0100
TZNAME:BST
DTSTART:20240331T010000
END:DAYLIGHT
BEGIN:STANDARD
TZOFFSETFROM:+0100
TZOFFSETTO:+0000
TZNAME:GMT
DTSTART:20241027T010000
END:STANDARD
BEGIN:DAYLIGHT
TZOFFSETFROM:+0000
TZOFFSETTO:+0100
TZNAME:BST
DTSTART:20250330T010000
END:DAYLIGHT
BEGIN:STANDARD
TZOFFSETFROM:+0100
TZOFFSETTO:+0000
TZNAME:GMT
DTSTART:20251026T010000
END:STANDARD
END:VTIMEZONE
BEGIN:VEVENT
DTSTART;TZID=Europe/London:20240726T080000
DTEND;TZID=Europe/London:20240729T170000
DTSTAMP:20260423T231148
CREATED:20240209T132341Z
LAST-MODIFIED:20241111T155121Z
UID:797-1721980800-1722272400@apbc.uk
SUMMARY:LADIES AWAY DAY 26TH JULY 2024
DESCRIPTION:The Ladies Bowling Club will enjoy their Second weekend away of 2024 on the 26th July 2024 at the Hydro Hotel\, Llandudno
URL:https://apbc.uk/event/ladies-away-day-26th-july-2024/
LOCATION:Hydro Hotel\, Nevill Crescent\, Llanudno\, LL30 1AS
CATEGORIES:Ladies
END:VEVENT
END:VCALENDAR